BEGIN:VCALENDAR
VERSION:2.0
PRODID:-//ChamberMaster//Event Calendar 2.0//EN
METHOD:PUBLISH
X-PUBLISHED-TTL:P3D
REFRESH-INTERVAL:P3D
CALSCALE:GREGORIAN
BEGIN:VEVENT
DTSTART:20190523T220000Z
DTEND:20190524T010000Z
X-MICROSOFT-CDO-ALLDAYEVENT:FALSE
SUMMARY:Washer Tournament-Crawfish Boil
DESCRIPTION:Teams of 2 - $25/player\n\nDinner only option - $15/person\n\nCost includes play\, drinks & dinner. If you don't have a partner\, don't worry! We can match you! We still have plenty of spots open. Please RSVP.
X-ALT-DESC;FMTTYPE=text/html:<span style="font-family:times new roman\,serif\;"><span style="font-size:10.5pt\;">Teams of 2 - $25/player<br />\nDinner only option - $15/person<br />\nCost includes play\, drinks &amp\; dinner. If you don&#39\;t have a partner\, don&#39\;t worry! We can match you! We still have plenty of spots open. <a href="mailto:admin@tylerareabuilders.com?subject=Washer%20Tournament%20%26%20Crawfish%20Boil">Please RSVP.&nbsp\;</a></span></span>
LOCATION:TABA 1504 West Grande Blvd. Tyler\, TX 75703
UID:e.9613.14281
SEQUENCE:3
DTSTAMP:20260420T181244Z
URL:http://business.tylerareabuilders.com/events/details/washer-tournament-crawfish-boil-14281
END:VEVENT

END:VCALENDAR
