BEGIN:VCALENDAR
VERSION:2.0
PRODID:-//ChamberMaster//Event Calendar 2.0//EN
METHOD:PUBLISH
X-PUBLISHED-TTL:P3D
REFRESH-INTERVAL:P3D
CALSCALE:GREGORIAN
BEGIN:VEVENT
DTSTART:20190924T170000Z
DTEND:20190924T180000Z
X-MICROSOFT-CDO-ALLDAYEVENT:FALSE
SUMMARY:Training with TABA Sponsored by StrucSure Home Warranty & Builder Agent Network
DESCRIPTION:Topic: TAB Contracts Update/Training\n\nGuest Speaker: James Rudnicki
X-ALT-DESC;FMTTYPE=text/html:<span style="color:#1F497D\;">Topic: TAB Contracts Update/Training</span><br />\n<span style="color:#1F497D\;">Guest Speaker: James Rudnicki</span>
LOCATION:StrucSure Home Warranty Room TABA Office 1504 W. Grande Blvd. Tyler\, TX 75703
UID:e.9613.14663
SEQUENCE:3
DTSTAMP:20260420T060441Z
URL:http://business.tylerareabuilders.com/events/details/training-with-taba-sponsored-by-strucsure-home-warranty-builder-agent-network-14663
END:VEVENT

END:VCALENDAR
