BEGIN:VCALENDAR
VERSION:2.0
PRODID:-//ChamberMaster//Event Calendar 2.0//EN
METHOD:PUBLISH
X-PUBLISHED-TTL:P3D
REFRESH-INTERVAL:P3D
CALSCALE:GREGORIAN
BEGIN:VEVENT
DTSTART:20191119T180000Z
DTEND:20191119T190000Z
X-MICROSOFT-CDO-ALLDAYEVENT:FALSE
SUMMARY:Training with TABA
DESCRIPTION:Guest Speaker: Henry & Peters\n\nTopic: Quickbooks Training
X-ALT-DESC;FMTTYPE=text/html:Guest Speaker: Henry &amp\; Peters<br />\nTopic: Quickbooks Training
LOCATION:TABA 1504 W Grande Blvd. Tyler\, TX 75703
UID:e.9613.14669
SEQUENCE:3
DTSTAMP:20260420T041959Z
URL:http://business.tylerareabuilders.com/events/details/training-with-taba-14669
END:VEVENT

END:VCALENDAR
