BEGIN:VCALENDAR
VERSION:2.0
PRODID:-//ChamberMaster//Event Calendar 2.0//EN
METHOD:PUBLISH
X-PUBLISHED-TTL:P3D
REFRESH-INTERVAL:P3D
CALSCALE:GREGORIAN
BEGIN:VEVENT
DTSTART:20190409T170000Z
DTEND:20190409T180000Z
X-MICROSOFT-CDO-ALLDAYEVENT:FALSE
SUMMARY:Training with TABA
DESCRIPTION:Topic: Energy Efficiency Incentives For You!\n\nTravis Cansler-Pitt will be the guest speaker.
X-ALT-DESC;FMTTYPE=text/html:Topic:&nbsp\;Energy Efficiency Incentives <span style="color:#1F497D\;">For You!</span><br />\n<span style="color:#1F497D\;">Travis Cansler-Pitt will be the guest speaker.</span><br />\n&nbsp\;
LOCATION:TABA Office 1504 West Grande Blvd. Tyler\, TX 75703
UID:e.9613.14648
SEQUENCE:3
DTSTAMP:20260420T192650Z
URL:http://business.tylerareabuilders.com/events/details/training-with-taba-14648
END:VEVENT

END:VCALENDAR
