BEGIN:VCALENDAR
VERSION:2.0
PRODID:-//ChamberMaster//Event Calendar 2.0//EN
METHOD:PUBLISH
X-PUBLISHED-TTL:P3D
REFRESH-INTERVAL:P3D
CALSCALE:GREGORIAN
BEGIN:VEVENT
DTSTART:20200909T170000Z
DTEND:20200909T180000Z
X-MICROSOFT-CDO-ALLDAYEVENT:FALSE
SUMMARY:To be Rescheduled - Past Presidents Luncheon
DESCRIPTION:
X-ALT-DESC;FMTTYPE=text/html:
LOCATION:Willow Brook Country Club 3205 W Erwin St Tyler\, TX 75702
UID:e.9613.14754
SEQUENCE:3
DTSTAMP:20260419T122048Z
URL:http://business.tylerareabuilders.com/events/details/to-be-rescheduled-past-presidents-luncheon-14754
END:VEVENT

END:VCALENDAR
