BEGIN:VCALENDAR
VERSION:2.0
PRODID:-//ChamberMaster//Event Calendar 2.0//EN
METHOD:PUBLISH
X-PUBLISHED-TTL:P3D
REFRESH-INTERVAL:P3D
CALSCALE:GREGORIAN
BEGIN:VEVENT
DTSTART;VALUE=DATE:20200916
DTEND;VALUE=DATE:20200917
TRANSP:TRANSPARENT
X-MICROSOFT-CDO-ALLDAYEVENT:TRUE
SUMMARY:TABA Membership Drive
DESCRIPTION:
X-ALT-DESC;FMTTYPE=text/html:
LOCATION:TABA Office 1504 W Grande Blvd Tyler\, TX 75703
UID:e.9613.15378
SEQUENCE:3
DTSTAMP:20260419T122505Z
URL:http://business.tylerareabuilders.com/events/details/taba-membership-drive-15378
END:VEVENT

END:VCALENDAR
