BEGIN:VCALENDAR
VERSION:2.0
PRODID:-//ChamberMaster//Event Calendar 2.0//EN
METHOD:PUBLISH
X-PUBLISHED-TTL:P3D
REFRESH-INTERVAL:P3D
CALSCALE:GREGORIAN
BEGIN:VEVENT
DTSTART:20201012T173000Z
DTEND:20201012T230000Z
X-MICROSOFT-CDO-ALLDAYEVENT:FALSE
SUMMARY:TABA Golf Tournament
DESCRIPTION:It's time for the TABA Golf Tournament! Cost includes tournament play\, cart rental\, drinks and dinner during awards presentation. Sign up as an individual or team. Reply to this email to reserve a spot. \n\n \n\n*Associate members\, we also need door prizes and items for the goody bags (126 items for the bags). If you would like to donate\, please drop these items off at the TABA office or call for more information.
X-ALT-DESC;FMTTYPE=text/html:<p style="font-size: 14px\; line-height: 140%\;">It&#39\;s&nbsp\;time for the TABA Golf Tournament! Cost includes tournament play\, cart rental\, drinks and dinner during awards presentation. Sign up as an individual or team. Reply to this email to reserve a spot.&nbsp\;</p>\n\n<p style="font-size: 14px\; line-height: 140%\;">&nbsp\;</p>\n\n<p style="font-size: 14px\; line-height: 140%\;">*Associate members\, we also need door prizes and items for the goody bags (126 items for the bags). If you would like to donate\, please drop these items off at the TABA office or call for more information.</p>\n\n<p style="font-size: 14px\; line-height: 140%\;">&nbsp\;</p>\n
LOCATION:The Cascades 4511 Briarwood Rd Tyler\, TX 75709
UID:e.9613.14693
SEQUENCE:3
DTSTAMP:20260421T103106Z
URL:http://business.tylerareabuilders.com/events/details/taba-golf-tournament-14693
END:VEVENT

END:VCALENDAR
