BEGIN:VCALENDAR
VERSION:2.0
PRODID:-//ChamberMaster//Event Calendar 2.0//EN
METHOD:PUBLISH
X-PUBLISHED-TTL:P3D
REFRESH-INTERVAL:P3D
CALSCALE:GREGORIAN
BEGIN:VEVENT
DTSTART:20260414T170000Z
DTEND:20260414T180000Z
X-MICROSOFT-CDO-ALLDAYEVENT:FALSE
SUMMARY:Spring General Membership Meeting
DESCRIPTION:Make plans to join us.\n\nCost is $35 per person and lunch is included.
X-ALT-DESC;FMTTYPE=text/html:Make plans to join us.<br />\nCost is $35 per person and lunch is included.&nbsp\;
LOCATION:Hollytree Country Club
UID:e.9613.16766
SEQUENCE:3
DTSTAMP:20260419T121729Z
URL:http://business.tylerareabuilders.com/events/details/spring-general-membership-meeting-04-16-2026-16766
END:VEVENT

END:VCALENDAR
