BEGIN:VCALENDAR
VERSION:2.0
PRODID:-//ChamberMaster//Event Calendar 2.0//EN
METHOD:PUBLISH
X-PUBLISHED-TTL:P3D
REFRESH-INTERVAL:P3D
CALSCALE:GREGORIAN
BEGIN:VEVENT
DTSTART:20251112T220000Z
DTEND:20251112T230000Z
X-MICROSOFT-CDO-ALLDAYEVENT:FALSE
SUMMARY:Social Events Committee Meeting
DESCRIPTION:Social Committee Meeting
X-ALT-DESC;FMTTYPE=text/html:Social Committee Meeting
LOCATION:TABA 1504 West Grande
UID:e.9613.16734
SEQUENCE:3
DTSTAMP:20260421T162613Z
URL:http://business.tylerareabuilders.com/events/details/social-events-committee-meeting-16734
END:VEVENT

END:VCALENDAR
