BEGIN:VCALENDAR
VERSION:2.0
PRODID:-//ChamberMaster//Event Calendar 2.0//EN
METHOD:PUBLISH
X-PUBLISHED-TTL:P3D
REFRESH-INTERVAL:P3D
CALSCALE:GREGORIAN
BEGIN:VEVENT
DTSTART:20190716T170000Z
DTEND:20190716T180000Z
X-MICROSOFT-CDO-ALLDAYEVENT:FALSE
SUMMARY:Parade Builder ''Thank You'' Luncheon
DESCRIPTION:Parade Builders Only\,one representative per company\,please.
X-ALT-DESC;FMTTYPE=text/html:Parade Builders Only\,one representative per company\,please.&nbsp\;
LOCATION:1836 Kitchen 2467 Crow Rd\, Tyler\, TX 75703
UID:e.9613.14294
SEQUENCE:3
DTSTAMP:20260420T155005Z
URL:http://business.tylerareabuilders.com/events/details/parade-builder-thank-you-luncheon-14294
END:VEVENT

END:VCALENDAR
