BEGIN:VCALENDAR
VERSION:2.0
PRODID:-//ChamberMaster//Event Calendar 2.0//EN
METHOD:PUBLISH
X-PUBLISHED-TTL:P3D
REFRESH-INTERVAL:P3D
CALSCALE:GREGORIAN
BEGIN:VEVENT
DTSTART:20200108T180000Z
DTEND:20200108T190000Z
X-MICROSOFT-CDO-ALLDAYEVENT:FALSE
SUMMARY:General Membership Meeting & Officer Installation
DESCRIPTION:The 2020 TABA Officers will be installed by Texas Association of Builders Immediate Past President Robert Wood.
X-ALT-DESC;FMTTYPE=text/html:The 2020 TABA Officers will be installed by Texas Association of Builders Immediate Past President Robert Wood.
LOCATION:Willow Brook Country Club 3205 West Erwin Street Tyler\, TX 75702
UID:e.9613.14673
SEQUENCE:3
DTSTAMP:20260420T001216Z
URL:http://business.tylerareabuilders.com/events/details/general-membership-meeting-officer-installation-14673
END:VEVENT

END:VCALENDAR
