BEGIN:VCALENDAR
VERSION:2.0
PRODID:-//ChamberMaster//Event Calendar 2.0//EN
METHOD:PUBLISH
X-PUBLISHED-TTL:P3D
REFRESH-INTERVAL:P3D
CALSCALE:GREGORIAN
BEGIN:VEVENT
DTSTART:20190828T170000Z
DTEND:20190828T180000Z
X-MICROSOFT-CDO-ALLDAYEVENT:FALSE
SUMMARY:General Membership Meeting & Govt. Officials Appreciation Luncheon
DESCRIPTION:Guest Speaker: Dr. James Gaines Chief Economist- Texas Real Estate Research Center
X-ALT-DESC;FMTTYPE=text/html:Guest Speaker: Dr. James Gaines Chief Economist- Texas Real Estate Research Center
LOCATION:Willow Brook Country Club 3205 W Erwin St\, Tyler\, TX 75702
UID:e.9613.14662
SEQUENCE:3
DTSTAMP:20260420T073824Z
URL:http://business.tylerareabuilders.com/events/details/general-membership-meeting-govt-officials-appreciation-luncheon-14662
END:VEVENT

END:VCALENDAR
