BEGIN:VCALENDAR
VERSION:2.0
PRODID:-//ChamberMaster//Event Calendar 2.0//EN
METHOD:PUBLISH
X-PUBLISHED-TTL:P3D
REFRESH-INTERVAL:P3D
CALSCALE:GREGORIAN
BEGIN:VEVENT
DTSTART:20191024T210000Z
DTEND:20191024T230000Z
X-MICROSOFT-CDO-ALLDAYEVENT:FALSE
SUMMARY:Family Fun Afternoon at TABA
DESCRIPTION:Bring your little ones for a FREE FUN afternoon at TABA!
X-ALT-DESC;FMTTYPE=text/html:<span style="color: rgb(34\, 34\, 34)\; font-family: Arial\, Verdana\, sans-serif\; font-size: 12px\; background-color: rgb(255\, 255\, 255)\;">Bring your little ones for a FREE FUN afternoon at TABA!&nbsp\;</span>
LOCATION:TABA 1504 W Grande Blvd Tyler\, TX 75703
UID:e.9613.14665
SEQUENCE:3
DTSTAMP:20260420T061327Z
URL:http://business.tylerareabuilders.com/events/details/family-fun-afternoon-at-taba-10-24-2019-14665
END:VEVENT

END:VCALENDAR
