BEGIN:VCALENDAR
VERSION:2.0
PRODID:-//ChamberMaster//Event Calendar 2.0//EN
METHOD:PUBLISH
X-PUBLISHED-TTL:P3D
REFRESH-INTERVAL:P3D
CALSCALE:GREGORIAN
BEGIN:VEVENT
DTSTART:20200804T210000Z
DTEND:20200804T220000Z
X-MICROSOFT-CDO-ALLDAYEVENT:FALSE
SUMMARY:EMAIL-Board Meeting
DESCRIPTION:Board will meet by Email.
X-ALT-DESC;FMTTYPE=text/html:Board will meet by Email.
LOCATION:TABA 1504 W Grande Blvd Tyler\, TX 75703
UID:e.9613.14717
SEQUENCE:3
DTSTAMP:20260419T151007Z
URL:http://business.tylerareabuilders.com/events/details/email-board-meeting-14717
END:VEVENT

END:VCALENDAR
