BEGIN:VCALENDAR
VERSION:2.0
PRODID:-//ChamberMaster//Event Calendar 2.0//EN
METHOD:PUBLISH
X-PUBLISHED-TTL:P3D
REFRESH-INTERVAL:P3D
CALSCALE:GREGORIAN
BEGIN:VEVENT
DTSTART:20190613T181500Z
DTEND:20190613T190000Z
X-MICROSOFT-CDO-ALLDAYEVENT:FALSE
SUMMARY:Education Committee Meeting- Will not meet in June
DESCRIPTION:Education Committee meets the 2nd Thursday of the month at 1:15 p.m.
X-ALT-DESC;FMTTYPE=text/html:Education Committee meets the 2nd Thursday of the month at 1:15 p.m.
LOCATION:TABA 1504 West Grande Blvd. Tyler\, TX 75703
UID:e.9613.14351
SEQUENCE:3
DTSTAMP:20260420T165803Z
URL:http://business.tylerareabuilders.com/events/details/education-committee-meeting-will-not-meet-in-june-14351
END:VEVENT

END:VCALENDAR
