BEGIN:VCALENDAR
VERSION:2.0
PRODID:-//ChamberMaster//Event Calendar 2.0//EN
METHOD:PUBLISH
X-PUBLISHED-TTL:P3D
REFRESH-INTERVAL:P3D
CALSCALE:GREGORIAN
BEGIN:VEVENT
DTSTART:20190912T181500Z
DTEND:20190912T190000Z
X-MICROSOFT-CDO-ALLDAYEVENT:FALSE
SUMMARY:Education Committee Meeting
DESCRIPTION:Education Committee meets the 2nd Thursday of the month at 1:15 p.m.
X-ALT-DESC;FMTTYPE=text/html:Education Committee meets the 2nd Thursday of the month at 1:15 p.m.
LOCATION:TABA 1504 West Grande Blvd. Tyler\, TX 75703
UID:e.9613.14354
SEQUENCE:3
DTSTAMP:20260420T061438Z
URL:http://business.tylerareabuilders.com/events/details/education-committee-meeting-09-12-2019-14354
END:VEVENT

END:VCALENDAR
