BEGIN:VCALENDAR
VERSION:2.0
PRODID:-//ChamberMaster//Event Calendar 2.0//EN
METHOD:PUBLISH
X-PUBLISHED-TTL:P3D
REFRESH-INTERVAL:P3D
CALSCALE:GREGORIAN
BEGIN:VEVENT
DTSTART:20191113T180000Z
DTEND:20191113T190000Z
X-MICROSOFT-CDO-ALLDAYEVENT:FALSE
SUMMARY:City of Tyler Lunch & Learn-Cancelled
DESCRIPTION:Cost is $10.00 and lunch is included.
X-ALT-DESC;FMTTYPE=text/html:<p><font color="#0000ff" face="Arial"><span style="font-size: 14px">Cost is $10.00 and lunch is included.&nbsp\;</span></font></p>\n
LOCATION:City of Tyler Development Services 423 W. Ferguson Tyler\, TX 75702
UID:e.9613.14326
SEQUENCE:3
DTSTAMP:20260420T043952Z
URL:http://business.tylerareabuilders.com/events/details/city-of-tyler-lunch-learn-cancelled-14326
END:VEVENT

END:VCALENDAR
