BEGIN:VCALENDAR
VERSION:2.0
PRODID:-//ChamberMaster//Event Calendar 2.0//EN
METHOD:PUBLISH
X-PUBLISHED-TTL:P3D
REFRESH-INTERVAL:P3D
CALSCALE:GREGORIAN
BEGIN:VEVENT
DTSTART:20200212T180000Z
DTEND:20200212T190000Z
X-MICROSOFT-CDO-ALLDAYEVENT:FALSE
SUMMARY:City of Tyler Lunch & Learn
DESCRIPTION:Topic: City of Tyler Inspection Process
X-ALT-DESC;FMTTYPE=text/html:Topic: City of Tyler Inspection Process
LOCATION:City of Tyler Development Services Office 423 W Ferguson St Tyler\, TX 75702
UID:e.9613.14679
SEQUENCE:3
DTSTAMP:20260420T001300Z
URL:http://business.tylerareabuilders.com/events/details/city-of-tyler-lunch-learn-14679
END:VEVENT

END:VCALENDAR
