BEGIN:VCALENDAR
VERSION:2.0
PRODID:-//ChamberMaster//Event Calendar 2.0//EN
METHOD:PUBLISH
X-PUBLISHED-TTL:P3D
REFRESH-INTERVAL:P3D
CALSCALE:GREGORIAN
BEGIN:VEVENT
DTSTART:20190213T180000Z
DTEND:20190213T190000Z
X-MICROSOFT-CDO-ALLDAYEVENT:FALSE
SUMMARY:City of Tyler Lunch & Learn
DESCRIPTION:Cost is $10.00 and lunch is included. Topic: "Citations\, Complaints & Fee Schedules"
X-ALT-DESC;FMTTYPE=text/html:<p><font color="#0000ff" face="Arial"><span style="font-size: 14px">Cost is $10.00 and lunch is included. Topic:&nbsp\;</span></font><span style="color:#1F497D\;">&ldquo\;<span style="font-family:arial\;">Citations\, Complaints &amp\; Fee Schedules&rdquo\;</span></span></p>\n
LOCATION:
UID:e.9613.14254
SEQUENCE:3
DTSTAMP:20260420T233648Z
URL:http://business.tylerareabuilders.com/events/details/city-of-tyler-lunch-learn-14254
END:VEVENT

END:VCALENDAR
