BEGIN:VCALENDAR
VERSION:2.0
PRODID:-//ChamberMaster//Event Calendar 2.0//EN
METHOD:PUBLISH
X-PUBLISHED-TTL:P3D
REFRESH-INTERVAL:P3D
CALSCALE:GREGORIAN
BEGIN:VEVENT
DTSTART:20190814T170000Z
DTEND:20190814T180000Z
X-MICROSOFT-CDO-ALLDAYEVENT:FALSE
SUMMARY:Cancelled- City of Tyler Lunch & Learn
DESCRIPTION:Cost is $10.00 and lunch is included.
X-ALT-DESC;FMTTYPE=text/html:<p><font color="#0000ff" face="Arial"><span style="font-size: 14px">Cost is $10.00 and lunch is included.&nbsp\;</span></font></p>\n
LOCATION:
UID:e.9613.14301
SEQUENCE:3
DTSTAMP:20260420T073906Z
URL:http://business.tylerareabuilders.com/events/details/cancelled-city-of-tyler-lunch-learn-14301
END:VEVENT

END:VCALENDAR
