BEGIN:VCALENDAR
VERSION:2.0
PRODID:-//ChamberMaster//Event Calendar 2.0//EN
METHOD:PUBLISH
X-PUBLISHED-TTL:P3D
REFRESH-INTERVAL:P3D
CALSCALE:GREGORIAN
BEGIN:VEVENT
DTSTART:20200625T170000Z
DTEND:20200625T180000Z
X-MICROSOFT-CDO-ALLDAYEVENT:FALSE
SUMMARY:CANCELLED-Builders Luncheon Sponsored by Cassity Jones Lumber
DESCRIPTION:
X-ALT-DESC;FMTTYPE=text/html:
LOCATION:Texas Roadhouse
UID:e.9613.14707
SEQUENCE:3
DTSTAMP:20260419T184247Z
URL:http://business.tylerareabuilders.com/events/details/cancelled-builders-luncheon-sponsored-by-cassity-jones-lumber-14707
END:VEVENT

END:VCALENDAR
