BEGIN:VCALENDAR
VERSION:2.0
PRODID:-//ChamberMaster//Event Calendar 2.0//EN
METHOD:PUBLISH
X-PUBLISHED-TTL:P3D
REFRESH-INTERVAL:P3D
CALSCALE:GREGORIAN
BEGIN:VEVENT
DTSTART:20201006T220000Z
DTEND:20201007T000000Z
X-MICROSOFT-CDO-ALLDAYEVENT:FALSE
SUMMARY:CANCELLED- After Hours Sponsored by UBank
DESCRIPTION:
X-ALT-DESC;FMTTYPE=text/html:
LOCATION:
UID:e.9613.14732
SEQUENCE:3
DTSTAMP:20260421T103248Z
URL:http://business.tylerareabuilders.com/events/details/cancelled-after-hours-sponsored-by-ubank-14732
END:VEVENT

END:VCALENDAR
