BEGIN:VCALENDAR
VERSION:2.0
PRODID:-//ChamberMaster//Event Calendar 2.0//EN
METHOD:PUBLISH
X-PUBLISHED-TTL:P3D
REFRESH-INTERVAL:P3D
CALSCALE:GREGORIAN
BEGIN:VEVENT
DTSTART:20200326T170000Z
DTEND:20200326T180000Z
X-MICROSOFT-CDO-ALLDAYEVENT:FALSE
SUMMARY:Builders Luncheon Sponsored by VeraBank
DESCRIPTION:
X-ALT-DESC;FMTTYPE=text/html:
LOCATION:Spring Creek BBQ 5810 S Broadway Ave Tyler\, TX 75703
UID:e.9613.14688
SEQUENCE:3
DTSTAMP:20260419T224742Z
URL:http://business.tylerareabuilders.com/events/details/builders-luncheon-sponsored-by-verabank-14688
END:VEVENT

END:VCALENDAR
