BEGIN:VCALENDAR
VERSION:2.0
PRODID:-//ChamberMaster//Event Calendar 2.0//EN
METHOD:PUBLISH
X-PUBLISHED-TTL:P3D
REFRESH-INTERVAL:P3D
CALSCALE:GREGORIAN
BEGIN:VEVENT
DTSTART:20200910T170000Z
DTEND:20200910T180000Z
X-MICROSOFT-CDO-ALLDAYEVENT:FALSE
SUMMARY:Builders Luncheon Sponsored by Texas Wood Mill Cabinets
DESCRIPTION:Texas Roadhouse\n\n2101 E SE Loop 323\n\nTyler\, TX 75701
X-ALT-DESC;FMTTYPE=text/html:Texas Roadhouse<br />\n2101 E SE Loop 323<br />\nTyler\, TX 75701
LOCATION:
UID:e.9613.14727
SEQUENCE:3
DTSTAMP:20260419T135254Z
URL:http://business.tylerareabuilders.com/events/details/builders-luncheon-sponsored-by-texas-wood-mill-cabinets-14727
END:VEVENT

END:VCALENDAR
