BEGIN:VCALENDAR
VERSION:2.0
PRODID:-//ChamberMaster//Event Calendar 2.0//EN
METHOD:PUBLISH
X-PUBLISHED-TTL:P3D
REFRESH-INTERVAL:P3D
CALSCALE:GREGORIAN
BEGIN:VEVENT
DTSTART:20200312T170000Z
DTEND:20200312T180000Z
X-MICROSOFT-CDO-ALLDAYEVENT:FALSE
SUMMARY:Builders Luncheon Sponsored by Gas & Supply
DESCRIPTION:
X-ALT-DESC;FMTTYPE=text/html:
LOCATION:Texas Roadhouse 2101 E SE Loop 323 Tyler\, TX 75701
UID:e.9613.14685
SEQUENCE:3
DTSTAMP:20260419T224905Z
URL:http://business.tylerareabuilders.com/events/details/builders-luncheon-sponsored-by-gas-supply-14685
END:VEVENT

END:VCALENDAR
