BEGIN:VCALENDAR
VERSION:2.0
PRODID:-//ChamberMaster//Event Calendar 2.0//EN
METHOD:PUBLISH
X-PUBLISHED-TTL:P3D
REFRESH-INTERVAL:P3D
CALSCALE:GREGORIAN
BEGIN:VEVENT
DTSTART:20200227T180000Z
DTEND:20200227T190000Z
X-MICROSOFT-CDO-ALLDAYEVENT:FALSE
SUMMARY:Builders Luncheon Sponsored by Crosspoint Lending Group
DESCRIPTION:
X-ALT-DESC;FMTTYPE=text/html:
LOCATION:El Charro on the Ridge 6899 Oak Hill Blvd Tyler\, TX 75703
UID:e.9613.14681
SEQUENCE:3
DTSTAMP:20260420T001049Z
URL:http://business.tylerareabuilders.com/events/details/builders-luncheon-sponsored-by-crosspoint-lending-group-02-27-2020-14681
END:VEVENT

END:VCALENDAR
