BEGIN:VCALENDAR
VERSION:2.0
PRODID:-//ChamberMaster//Event Calendar 2.0//EN
METHOD:PUBLISH
X-PUBLISHED-TTL:P3D
REFRESH-INTERVAL:P3D
CALSCALE:GREGORIAN
BEGIN:VEVENT
DTSTART:20200123T180000Z
DTEND:20200123T190000Z
X-MICROSOFT-CDO-ALLDAYEVENT:FALSE
SUMMARY:Builders Luncheon Sponsored by All Natural Stone & Grass
DESCRIPTION:
X-ALT-DESC;FMTTYPE=text/html:
LOCATION:Outback Steakhouse 5704 S Broadway Ave Tyler\, TX 75703
UID:e.9613.14674
SEQUENCE:3
DTSTAMP:20260420T001137Z
URL:http://business.tylerareabuilders.com/events/details/builders-luncheon-sponsored-by-all-natural-stone-grass-14674
END:VEVENT

END:VCALENDAR
