BEGIN:VCALENDAR
VERSION:2.0
PRODID:-//ChamberMaster//Event Calendar 2.0//EN
METHOD:PUBLISH
X-PUBLISHED-TTL:P3D
REFRESH-INTERVAL:P3D
CALSCALE:GREGORIAN
BEGIN:VEVENT
DTSTART:20190214T180000Z
DTEND:20190214T190000Z
X-MICROSOFT-CDO-ALLDAYEVENT:FALSE
SUMMARY:Builder Luncheon Sponsored by Kinzler Construction Services dba Garland & Jones Insulating
DESCRIPTION:ONE TABA member sponsors each Builder Luncheon granting them the opportunity to have face time with TABA Builder members\, present their products and answer questions the Builders may have.\n\\r\\n\n\nBuilder Luncheons are for TABA Builder Members or a company representative.  Please limit attendance to one (1) person per company.\n\n\\r\\n  \n\\r\\n\n\nThank you\,\n\n\\r\\n TABA Staff\n\\r
X-ALT-DESC;FMTTYPE=text/html:<p><span style="font-family: 'Courier New'">ONE&nbsp\;TABA&nbsp\;member sponsors each B<span id="fck_dom_range_temp_1201733762591_197"><span id="fck_dom_range_temp_1201733762591_571">uilder Luncheon granting them the opportunity to have face time with TABA Builder&nbsp\;members\, present their products and&nbsp\;answer questions&nbsp\;the Builders may have.</span></span></span></p>\n\\r\\n\n\n<p><span style="font-family: 'Courier New'">Builder Luncheons are for TABA Builder Members&nbsp\;or a company representative.&nbsp\; Please limit attendance to one (1) person per company.<br />\n\\r\\n &nbsp\;</span></p>\n\\r\\n\n\n<p><span style="font-family: 'Courier New'">Thank you\,<br />\n\\r\\n TABA Staff</span></p>\n\\r\\n
LOCATION:El Charro 6899 Oak Hill Blvd Tyler\, TX 75703
UID:e.9613.14255
SEQUENCE:3
DTSTAMP:20260420T221516Z
URL:http://business.tylerareabuilders.com/events/details/builder-luncheon-sponsored-by-kinzler-construction-services-dba-garland-jones-insulating-14255
END:VEVENT

END:VCALENDAR
