BEGIN:VCALENDAR
VERSION:2.0
PRODID:-//ChamberMaster//Event Calendar 2.0//EN
METHOD:PUBLISH
X-PUBLISHED-TTL:P3D
REFRESH-INTERVAL:P3D
CALSCALE:GREGORIAN
BEGIN:VEVENT
DTSTART:20190926T170000Z
DTEND:20190926T180000Z
X-MICROSOFT-CDO-ALLDAYEVENT:FALSE
SUMMARY:Builder Luncheon Sponsored by Doran Mechanical
DESCRIPTION:ONE TABA member sponsors each Builder Luncheon granting them the opportunity to have face time with TABA Builder members\, present their products and answer questions the Builders may have.\n\nBuilder Luncheons are for TABA Builder Members or a company representative.  Please limit attendance to one (1) person per company.\n\nThank you\,\n\nTABA Staff
X-ALT-DESC;FMTTYPE=text/html:<p><span style="font-family: 'Courier New'">ONE&nbsp\;TABA&nbsp\;member sponsors each B<span id="fck_dom_range_temp_1201733762591_197"><span id="fck_dom_range_temp_1201733762591_571">uilder Luncheon granting them the opportunity to have face time with TABA Builder&nbsp\;members\, present their products and&nbsp\;answer questions&nbsp\;the Builders may have.</span></span></span></p>\n\n<p><span style="font-family: 'Courier New'">Builder Luncheons are for TABA Builder Members&nbsp\;or a company representative.&nbsp\; Please limit attendance to one (1) person per company.</span></p>\n\n<p><span style="font-family: 'Courier New'">Thank you\,<br />\nTABA Staff</span></p>\n
LOCATION:Doran Mechanical 14661 State Highway 155 South Tyler\, TX 75703
UID:e.9613.14312
SEQUENCE:3
DTSTAMP:20260420T073512Z
URL:http://business.tylerareabuilders.com/events/details/builder-luncheon-sponsored-by-doran-mechanical-14312
END:VEVENT

END:VCALENDAR
