BEGIN:VCALENDAR
VERSION:2.0
PRODID:-//ChamberMaster//Event Calendar 2.0//EN
METHOD:PUBLISH
X-PUBLISHED-TTL:P3D
REFRESH-INTERVAL:P3D
CALSCALE:GREGORIAN
BEGIN:VEVENT
DTSTART:20260218T000000Z
DTEND:20260218T020000Z
X-MICROSOFT-CDO-ALLDAYEVENT:FALSE
SUMMARY:Bowling with Builders
DESCRIPTION:Teams of 6 play for $50/person and includes pizza\, salad bar\, & play for an hour. We will have a cash bar. Food-only attendance is still $50/person. Teams will sign up for one of these 2 shifts to bowl: 5:45-7pm or 6:45-8pm. Because this is a fundraiser\,  online registration is not available. You will need to call (903)561-3964 or email hlewis@tylerareabuilders.com to register. \n\n\n\nYou are free to mingle\, eat & drink during the entire event\, but bowling will be in the designated shifts. Email hlewis@tylerareabuilders.com to register.\n\n\n\nPlease Read: 100% of the fees collected will be used by HOMEPAC\, the Texas Association of Builders' political action committee. This means only cash\, cashiers check\, personal check or personal credit card will be accepted.
X-ALT-DESC;FMTTYPE=text/html:<p class="cvGsUA direction-ltr align-center para-style-body" style="color: rgb(255\, 223\, 43)\; font-family: &quot\;YACgEbc43jc 0&quot\;\, _fb_\, auto\; --font-size: 20px\; --line-height: 1\; line-height: 20px\;"><span style="color:#000000\;"><span class="OYPEnA text-decoration-none text-strikethrough-none">Teams of 6 play for $50/person and includes pizza\, salad bar\, &amp\; play for an hour. We will have a cash bar. Food-only attendance is still $50/person. Teams will sign up for one of these 2 shifts to bowl: 5:45-7pm or 6:45-8pm. <strong>Because this is a fundraiser\,&nbsp\; online registration is not available. You will need to call (903)561-3964 or email hlewis@tylerareabuilders.com to register.&nbsp\;</strong></span><br />\n<br />\n<span class="OYPEnA text-decoration-none text-strikethrough-none"><a href="mailto:hlewis@tylerareabuilders.com?subject=Bowling%20with%20Builders">You are free to mingle\, eat &amp\; drink during the entire event\, but bowling will be in the designated shifts. Email hlewis@tylerareabuilders.com to register.</a><br />\n<br />\n<u><strong>Please Read: 100% of the fees collected will be used by HOMEPAC\, the Texas Association of Builders&rsquo\; political action committee. This means only cash\, cashiers check\, personal check or personal credit card will be accepted.</strong></u></span></span></p>\n
LOCATION:Times Square Grand Slam 5201 S Broadway Ave #170 Tyler\, TX 75703
UID:e.9613.16749
SEQUENCE:3
DTSTAMP:20260421T124343Z
URL:http://business.tylerareabuilders.com/events/details/bowling-with-builders-16749
END:VEVENT

END:VCALENDAR
