BEGIN:VCALENDAR
VERSION:2.0
PRODID:-//ChamberMaster//Event Calendar 2.0//EN
METHOD:PUBLISH
X-PUBLISHED-TTL:P3D
REFRESH-INTERVAL:P3D
CALSCALE:GREGORIAN
BEGIN:VEVENT
DTSTART:20190702T220000Z
DTEND:20190703T000000Z
X-MICROSOFT-CDO-ALLDAYEVENT:FALSE
SUMMARY:After Hours Sponsored by Sword Company
DESCRIPTION:Join us for food\, drinks\, and networking! After Hours is free and open to all members.
X-ALT-DESC;FMTTYPE=text/html:Join us for food\, drinks\, and networking! After Hours is free and open to all members.
LOCATION:Sword Company 19981 HWY 69 S Tyler\, TX 75703
UID:e.9613.14291
SEQUENCE:3
DTSTAMP:20260420T155158Z
URL:http://business.tylerareabuilders.com/events/details/after-hours-sponsored-by-sword-company-14291
END:VEVENT

END:VCALENDAR
