BEGIN:VCALENDAR
VERSION:2.0
PRODID:-//ChamberMaster//Event Calendar 2.0//EN
METHOD:PUBLISH
X-PUBLISHED-TTL:P3D
REFRESH-INTERVAL:P3D
CALSCALE:GREGORIAN
BEGIN:VEVENT
DTSTART:20190205T230000Z
DTEND:20190206T010000Z
X-MICROSOFT-CDO-ALLDAYEVENT:FALSE
SUMMARY:After Hours Sponsored by Southern Hill Home
DESCRIPTION:Join us for food\, drinks\, and networking! After Hours is free and open to all members.
X-ALT-DESC;FMTTYPE=text/html:Join us for food\, drinks\, and networking! After Hours is free and open to all members.
LOCATION:After Hours will be at Southern Hill Home this month\, not at TABA! Southern Hill Home 17968 FM 2493 #144 Flint\, TX 75762
UID:e.9613.14253
SEQUENCE:3
DTSTAMP:20260420T221510Z
URL:http://business.tylerareabuilders.com/events/details/after-hours-sponsored-by-southern-hill-home-14253
END:VEVENT

END:VCALENDAR
