BEGIN:VCALENDAR
VERSION:2.0
PRODID:-//ChamberMaster//Event Calendar 2.0//EN
METHOD:PUBLISH
X-PUBLISHED-TTL:P3D
REFRESH-INTERVAL:P3D
CALSCALE:GREGORIAN
BEGIN:VEVENT
DTSTART:20190507T220000Z
DTEND:20190508T000000Z
X-MICROSOFT-CDO-ALLDAYEVENT:FALSE
SUMMARY:After Hours Sponsored by NWP Management & Real Estate
DESCRIPTION:Join us for food\, drinks\, and networking! After Hours is free and open to all members.
X-ALT-DESC;FMTTYPE=text/html:Join us for food\, drinks\, and networking! After Hours is free and open to all members.
LOCATION:NWP Office 3100 New Copeland Rd Tyler\, TX 75701
UID:e.9613.14275
SEQUENCE:3
DTSTAMP:20260420T181339Z
URL:http://business.tylerareabuilders.com/events/details/after-hours-sponsored-by-nwp-management-real-estate-14275
END:VEVENT

END:VCALENDAR
