BEGIN:VCALENDAR
VERSION:2.0
PRODID:-//ChamberMaster//Event Calendar 2.0//EN
METHOD:PUBLISH
X-PUBLISHED-TTL:P3D
REFRESH-INTERVAL:P3D
CALSCALE:GREGORIAN
BEGIN:VEVENT
DTSTART:20260203T220000Z
DTEND:20260204T000000Z
X-MICROSOFT-CDO-ALLDAYEVENT:FALSE
SUMMARY:After Hours sponsored by G&R Gutters and Garage Doors
DESCRIPTION:Join us for food\, drinks and networking! After Hours is a free\, come and go networking event and is open to all members. No need to RSVP.
X-ALT-DESC;FMTTYPE=text/html:Join us for food\, drinks and networking! After Hours is a free\, come and go networking event and is open to all members. No need to RSVP.&nbsp\;
LOCATION:G&R Gutters and Garage Doors 17968 FM 2493\, Unit 145 Flint\, TX 75762
UID:e.9613.16753
SEQUENCE:3
DTSTAMP:20260421T124909Z
URL:http://business.tylerareabuilders.com/events/details/after-hours-sponsored-by-g-r-gutters-and-garage-doors-16753
END:VEVENT

END:VCALENDAR
