BEGIN:VCALENDAR
VERSION:2.0
PRODID:-//ChamberMaster//Event Calendar 2.0//EN
METHOD:PUBLISH
X-PUBLISHED-TTL:P3D
REFRESH-INTERVAL:P3D
CALSCALE:GREGORIAN
BEGIN:VEVENT
DTSTART:20190813T220000Z
DTEND:20190814T000000Z
X-MICROSOFT-CDO-ALLDAYEVENT:FALSE
SUMMARY:After Hours Sponsored by Altra Federal Credit Union
DESCRIPTION:Join us for food\, drinks\, and networking! After Hours is free and open to all members.\n\n\n\n*DOOR PRIZE*
X-ALT-DESC;FMTTYPE=text/html:Join us for food\, drinks\, and networking! After Hours is free and open to all members.<br />\n<br />\n*DOOR PRIZE*
LOCATION:Altra Federal Credit Union Rose City Community Room 2815 W. SW Loop 323 Tyler\, TX 75701
UID:e.9613.14299
SEQUENCE:3
DTSTAMP:20260420T074022Z
URL:http://business.tylerareabuilders.com/events/details/after-hours-sponsored-by-altra-federal-credit-union-14299
END:VEVENT

END:VCALENDAR
