BEGIN:VCALENDAR
VERSION:2.0
PRODID:-//ChamberMaster//Event Calendar 2.0//EN
METHOD:PUBLISH
X-PUBLISHED-TTL:P3D
REFRESH-INTERVAL:P3D
CALSCALE:GREGORIAN
BEGIN:VEVENT
DTSTART:20200628T190000Z
DTEND:20200628T230000Z
X-MICROSOFT-CDO-ALLDAYEVENT:FALSE
SUMMARY:2020 Parade of Homes
DESCRIPTION:
X-ALT-DESC;FMTTYPE=text/html:
LOCATION:Disregard the date listed above. Your ticket will be good for the entire Parade\, dates and hours are: June 20-28\, 2020 Hours: Saturdays: 10 a.m.- 6 p.m. Sundays: 2-6 p.m. Monday-Thursday: 5-8 p.m. Friday: 3-8 p.m. Tickets: $10 for adults $5 Children 12 & Under
UID:e.9613.15184
SEQUENCE:3
DTSTAMP:20260419T184618Z
URL:http://business.tylerareabuilders.com/events/details/2020-parade-of-homes-06-28-2020-15184
END:VEVENT

END:VCALENDAR
