BEGIN:VCALENDAR
VERSION:2.0
PRODID:-//ChamberMaster//Event Calendar 2.0//EN
METHOD:PUBLISH
X-PUBLISHED-TTL:P3D
REFRESH-INTERVAL:P3D
CALSCALE:GREGORIAN
BEGIN:VEVENT
DTSTART:20200222T000000Z
DTEND:20200223T220000Z
X-MICROSOFT-CDO-ALLDAYEVENT:FALSE
SUMMARY:2020 Home Products Show
DESCRIPTION:TABA Home Products Show
X-ALT-DESC;FMTTYPE=text/html:TABA Home Products Show
LOCATION:Harvey Convention Center
UID:e.9613.14667
SEQUENCE:3
DTSTAMP:20260420T000926Z
URL:http://business.tylerareabuilders.com/events/details/2020-home-products-show-14667
END:VEVENT

END:VCALENDAR
