BEGIN:VCALENDAR
VERSION:2.0
PRODID:-//ChamberMaster//Event Calendar 2.0//EN
METHOD:PUBLISH
X-PUBLISHED-TTL:P3D
REFRESH-INTERVAL:P3D
CALSCALE:GREGORIAN
BEGIN:VEVENT
DTSTART:20190918T170000Z
DTEND:20190918T210000Z
X-MICROSOFT-CDO-ALLDAYEVENT:FALSE
SUMMARY:2019 Membership Drive
DESCRIPTION:Open to ALL Members! \n\nCome join us for the Membership Drive!
X-ALT-DESC;FMTTYPE=text/html:Open to ALL Members!&nbsp\;<br />\nCome join us for the Membership Drive!&nbsp\;
LOCATION:TABA 1504 W Grande Blvd. Tyler\, TX 75703
UID:e.9613.14668
SEQUENCE:3
DTSTAMP:20260420T061019Z
URL:http://business.tylerareabuilders.com/events/details/2019-membership-drive-14668
END:VEVENT

END:VCALENDAR
